BEGIN:VCALENDAR
VERSION:2.0
PRODID:-//wp-events-plugin.com//7.2.3.1//EN
TZID:Europe/Paris
X-WR-TIMEZONE:Europe/Paris
BEGIN:VEVENT
UID:1167@vivarmor.fr
DTSTART;TZID=Europe/Paris:20260328T140000
DTEND;TZID=Europe/Paris:20260328T170000
DTSTAMP:20260225T165603Z
URL:https://www.vivarmor.fr/evenement/canettoyage-3/
SUMMARY:Canettoyage
DESCRIPTION:Ramasser les déchets abandonnés dans les espaces publics et e
 n profiter pour collecter les restes de micromammifères piégés dans les
  canettes afin d’améliorer les connaissances sur ces espèces.
ATTACH;FMTTYPE=image/jpeg:https://www.vivarmor.fr/wp-content/uploads/2022/
 11/ECORANDO-27-10-2022-05.jpg
CATEGORIES:Appel à bénévoles,Chantier nature
LOCATION:Saint-Alban - 1 Rue de la Croix de la Mission\, 1 Rue de la Croix 
 de la Mission\, Saint-Alban\, France
GEO:48.557275;-2.533747
X-APPLE-STRUCTURED-LOCATION;VALUE=URI;X-ADDRESS=1 Rue de la Croix de la Mis
 sion\, Saint-Alban\, France;X-APPLE-RADIUS=100;X-TITLE=Saint-Alban - 1 Rue
  de la Croix de la Mission:geo:48.557275,-2.533747
END:VEVENT
BEGIN:VTIMEZONE
TZID:Europe/Paris
X-LIC-LOCATION:Europe/Paris
BEGIN:STANDARD
DTSTART:20251026T020000
TZOFFSETFROM:+0200
TZOFFSETTO:+0100
TZNAME:CET
END:STANDARD
END:VTIMEZONE
END:VCALENDAR