BEGIN:VCALENDAR
VERSION:2.0
PRODID:-//wp-events-plugin.com//7.2.3.1//EN
TZID:Europe/Paris
X-WR-TIMEZONE:Europe/Paris
BEGIN:VEVENT
UID:871@vivarmor.fr
DTSTART;TZID=Europe/Paris:20241014T000000
DTEND;TZID=Europe/Paris:20241130T000000
DTSTAMP:20241023T123150Z
URL:https://www.vivarmor.fr/evenement/cinquieme-edition-de-la-fete-des-ois
 eaux-migrateurs/
SUMMARY:Cinquième édition de la Fête des oiseaux migrateurs
DESCRIPTION:Du 14 octobre au 30 novembre en baie de Saint-Brieuc\, VivArmor
  Nature organise la cinquième édition de la Fête des oiseaux migrateurs
 \, avec de nombreux partenaires.
ATTACH;FMTTYPE=image/jpeg:https://www.vivarmor.fr/wp-content/uploads/2024/
 07/Visuel_2.jpg
LOCATION:Langueux - Bourienne\, 48.497907\, -2.689541\, Langueux\, France
GEO:48.497872;-2.689482
X-APPLE-STRUCTURED-LOCATION;VALUE=URI;X-ADDRESS=48.497907\, -2.689541\, Lan
 gueux\, France;X-APPLE-RADIUS=100;X-TITLE=Langueux - Bourienne:geo:48.4978
 72,-2.689482
END:VEVENT
BEGIN:VTIMEZONE
TZID:Europe/Paris
X-LIC-LOCATION:Europe/Paris
BEGIN:DAYLIGHT
DTSTART:20240331T030000
TZOFFSETFROM:+0100
TZOFFSETTO:+0200
TZNAME:CEST
END:DAYLIGHT
BEGIN:STANDARD
DTSTART:20241027T020000
TZOFFSETFROM:+0200
TZOFFSETTO:+0100
TZNAME:CET
END:STANDARD
END:VTIMEZONE
END:VCALENDAR