BEGIN:VCALENDAR
VERSION:2.0
PRODID:-//wp-events-plugin.com//7.2.3.1//EN
TZID:Europe/Paris
X-WR-TIMEZONE:Europe/Paris
BEGIN:VEVENT
UID:402@vivarmor.fr
DTSTART;TZID=Europe/Paris:20211028T000000
DTEND;TZID=Europe/Paris:20211205T000000
DTSTAMP:20211028T075040Z
URL:https://www.vivarmor.fr/evenement/cycle-de-rendez-vous-a-la-decouverte
 -de-la-geologie-du-littoral-plerinais/
SUMMARY:Cycle de rendez-vous "A la découverte de la géologie du littoral 
 plérinais"
DESCRIPTION:Du 28 octobre au 5 décembre\, le Groupe patrimoine géologique
  22 de VivArmor Nature et l'association "Si Plérin vous était conté" pr
 oposent une conférence et des circuits pour découvrir la géologie du li
 ttoral plérinais.
ATTACH;FMTTYPE=image/jpeg:https://www.vivarmor.fr/wp-content/uploads/2021/
 10/gilles-marjolet-hydrogeologue-membre-de-l-association_5421024.jpg
LOCATION:Plérin - Centre culturel Le Cap\, 6 rue de la Croix\, Plérin\, F
 rance
GEO:48.533303;-2.768037
X-APPLE-STRUCTURED-LOCATION;VALUE=URI;X-ADDRESS=6 rue de la Croix\, Plérin
 \, France;X-APPLE-RADIUS=100;X-TITLE=Plérin - Centre culturel Le Cap:geo:
 48.533303,-2.768037
END:VEVENT
BEGIN:VTIMEZONE
TZID:Europe/Paris
X-LIC-LOCATION:Europe/Paris
BEGIN:DAYLIGHT
DTSTART:20210328T030000
TZOFFSETFROM:+0100
TZOFFSETTO:+0200
TZNAME:CEST
END:DAYLIGHT
BEGIN:STANDARD
DTSTART:20211031T020000
TZOFFSETFROM:+0200
TZOFFSETTO:+0100
TZNAME:CET
END:STANDARD
END:VTIMEZONE
END:VCALENDAR