BEGIN:VCALENDAR
VERSION:2.0
PRODID:-//wp-events-plugin.com//7.2.3.1//EN
TZID:Europe/Paris
X-WR-TIMEZONE:Europe/Paris
BEGIN:VEVENT
UID:1043@vivarmor.fr
DTSTART;TZID=Europe/Paris;VALUE=DATE:20251019
DTEND;TZID=Europe/Paris;VALUE=DATE:20251220
DTSTAMP:20251128T125752Z
URL:https://www.vivarmor.fr/evenement/fete-des-oiseaux-migrateurs-6eme-edi
 tion/
SUMMARY:Fête des oiseaux migrateurs 6ème édition
DESCRIPTION:Expositions\, découverte en bus\, stands\, sorties\, porte ouv
 erte sur un suivi\, spectacle\, ciné-débat… découvrir le monde fascin
 ant des oiseaux migrateurs grâce à de nombreuses activités.
ATTACH;FMTTYPE=image/jpeg:https://www.vivarmor.fr/wp-content/uploads/2025/
 06/Visuel-.jpg
CATEGORIES:Conférence / causerie / ciné-débat,Exposition,Sortie
 nature,Stand thématique
LOCATION:Langueux - Bourienne\, 48.497907\, -2.689541\, Langueux\, France
GEO:48.497872;-2.689482
X-APPLE-STRUCTURED-LOCATION;VALUE=URI;X-ADDRESS=48.497907\, -2.689541\, Lan
 gueux\, France;X-APPLE-RADIUS=100;X-TITLE=Langueux - Bourienne:geo:48.4978
 72,-2.689482
END:VEVENT
BEGIN:VTIMEZONE
TZID:Europe/Paris
X-LIC-LOCATION:Europe/Paris
BEGIN:DAYLIGHT
DTSTART:20250330T030000
TZOFFSETFROM:+0100
TZOFFSETTO:+0200
TZNAME:CEST
END:DAYLIGHT
BEGIN:STANDARD
DTSTART:20251026T020000
TZOFFSETFROM:+0200
TZOFFSETTO:+0100
TZNAME:CET
END:STANDARD
END:VTIMEZONE
END:VCALENDAR