BEGIN:VCALENDAR
VERSION:2.0
PRODID:-//wp-events-plugin.com//7.2.3.1//EN
TZID:Europe/Paris
X-WR-TIMEZONE:Europe/Paris
BEGIN:VEVENT
UID:57@vivarmor.fr
DTSTART;TZID=Europe/Paris:20180909T130000
DTEND;TZID=Europe/Paris:20180909T153000
DTSTAMP:20180425T132531Z
URL:https://www.vivarmor.fr/evenement/sensibilisation-enquete-aupres-peche
 urs-a-pied-a-martin-plage/
SUMMARY:Sensibilisation et enquête auprès des pêcheurs à pied à Martin
 -Plage
DESCRIPTION:A l'occasion des prochaines grandes marées\, VivArmor Nature r
 echerche des bénévoles pour sensibiliser les pêcheurs à pied aux prati
 ques respectueuses de l'environnement.
ATTACH;FMTTYPE=image/jpeg:https://www.vivarmor.fr/wp-content/uploads/2018/
 04/Pêcheurs-crevettes-bouquets-Martin-Plage-Franck-Delisle.jpg
LOCATION:Plérin - Martin Plage\, Martin Plage\, Plérin\, 
GEO:48.556728672765196;-2.72596791398621
X-APPLE-STRUCTURED-LOCATION;VALUE=URI;X-ADDRESS=Martin Plage\, Plérin\, ;X
 -APPLE-RADIUS=100;X-TITLE=Plérin - Martin Plage:geo:48.556728672765196,-2
 .72596791398621
END:VEVENT
BEGIN:VTIMEZONE
TZID:Europe/Paris
X-LIC-LOCATION:Europe/Paris
BEGIN:DAYLIGHT
DTSTART:20180325T030000
TZOFFSETFROM:+0100
TZOFFSETTO:+0200
TZNAME:CEST
END:DAYLIGHT
END:VTIMEZONE
END:VCALENDAR