BEGIN:VCALENDAR
VERSION:2.0
PRODID:-//wp-events-plugin.com//7.2.3.1//EN
TZID:Europe/Paris
X-WR-TIMEZONE:Europe/Paris
BEGIN:VEVENT
UID:61@vivarmor.fr
DTSTART;TZID=Europe/Paris:20180615T141500
DTEND;TZID=Europe/Paris:20180615T164500
DTSTAMP:20180425T133941Z
URL:https://www.vivarmor.fr/evenement/sensibilisation-enquete-aupres-peche
 urs-a-pied-aux-godelins-2/
SUMMARY:Sensibilisation et enquête auprès des pêcheurs à pied aux Godel
 ins
DESCRIPTION:A l'occasion des prochaines grandes marées\, VivArmor Nature r
 echerche des bénévoles pour sensibiliser les pêcheurs à pied aux prati
 ques respectueuses de l'environnement.
ATTACH;FMTTYPE=image/jpeg:https://www.vivarmor.fr/wp-content/uploads/2018/
 04/Grande-marée-Les-Godelins.jpg
LOCATION:Les Godelins\, Plage des Godelins\, Binic-Etables-sur-mer\, France
GEO:48.623201;-2.8218
X-APPLE-STRUCTURED-LOCATION;VALUE=URI;X-ADDRESS=Plage des Godelins\, Binic-
 Etables-sur-mer\, France;X-APPLE-RADIUS=100;X-TITLE=Les Godelins:geo:48.62
 3201,-2.8218
END:VEVENT
BEGIN:VTIMEZONE
TZID:Europe/Paris
X-LIC-LOCATION:Europe/Paris
BEGIN:DAYLIGHT
DTSTART:20180325T030000
TZOFFSETFROM:+0100
TZOFFSETTO:+0200
TZNAME:CEST
END:DAYLIGHT
END:VTIMEZONE
END:VCALENDAR