BEGIN:VCALENDAR
VERSION:2.0
PRODID:-//wp-events-plugin.com//7.2.3.1//EN
TZID:Europe/Paris
X-WR-TIMEZONE:Europe/Paris
BEGIN:VEVENT
UID:157@vivarmor.fr
DTSTART;TZID=Europe/Paris:20190601T100000
DTEND;TZID=Europe/Paris:20190601T183000
DTSTAMP:20190328T084627Z
URL:https://www.vivarmor.fr/evenement/stand-peche-a-pied-a-plerin/
SUMMARY:Quand Pêche à pied rime avec Biodiversité à Plérin
DESCRIPTION:Stand de sensibilisation à la reconnaissance des petites bête
 s de l'estran et aux bonnes pratiques de pêche à pied
ATTACH;FMTTYPE=image/jpeg:https://www.vivarmor.fr/wp-content/uploads/2018/
 10/1.jpg
LOCATION:Plérin - Magasin Vert\, ZC Chêne Vert\, Rue du Pont À l'Anglais
 \, Plérin\, 22190\, France
GEO:48.5334235;-2.7532817000000023
X-APPLE-STRUCTURED-LOCATION;VALUE=URI;X-ADDRESS=ZC Chêne Vert\, Rue du Pon
 t À l'Anglais\, Plérin\, 22190\, France;X-APPLE-RADIUS=100;X-TITLE=Plér
 in - Magasin Vert:geo:48.5334235,-2.7532817000000023
END:VEVENT
BEGIN:VTIMEZONE
TZID:Europe/Paris
X-LIC-LOCATION:Europe/Paris
BEGIN:DAYLIGHT
DTSTART:20190331T030000
TZOFFSETFROM:+0100
TZOFFSETTO:+0200
TZNAME:CEST
END:DAYLIGHT
END:VTIMEZONE
END:VCALENDAR