BEGIN:VCALENDAR
VERSION:2.0
PRODID:-//wp-events-plugin.com//7.2.3.1//EN
TZID:Europe/Paris
X-WR-TIMEZONE:Europe/Paris
BEGIN:VEVENT
UID:26@vivarmor.fr
DTSTART;TZID=Europe/Paris:20180608T183000
DTEND;TZID=Europe/Paris:20180608T203000
DTSTAMP:20180519T135102Z
URL:https://www.vivarmor.fr/evenement/vie-secrete-dun-plateau-de-fruits-de
 -mer/
SUMMARY:La vie secrète d'un plateau de fruits de mer
DESCRIPTION:Une soirée d'échanges gratuite et ouverte à tous organisée 
 dans le cadre de 20 ans de la Réserve naturelle de la baie de Saint-Brieu
 c.
ATTACH;FMTTYPE=image/jpeg:https://www.vivarmor.fr/wp-content/uploads/2018/
 02/Affiche-conférence-fruits-de-mer.jpg
LOCATION:Espace Palante\, 2 Rue Ollivier Provost\, Hillion\, France
GEO:48.513881;-2.667236
X-APPLE-STRUCTURED-LOCATION;VALUE=URI;X-ADDRESS=2 Rue Ollivier Provost\, Hi
 llion\, France;X-APPLE-RADIUS=100;X-TITLE=Espace Palante:geo:48.513881,-2.
 667236
END:VEVENT
BEGIN:VTIMEZONE
TZID:Europe/Paris
X-LIC-LOCATION:Europe/Paris
BEGIN:DAYLIGHT
DTSTART:20180325T030000
TZOFFSETFROM:+0100
TZOFFSETTO:+0200
TZNAME:CEST
END:DAYLIGHT
END:VTIMEZONE
END:VCALENDAR